BEGIN:VCALENDAR
VERSION:2.0
PRODID:icalendar-ruby
CALSCALE:GREGORIAN
METHOD:PUBLISH
BEGIN:VEVENT
DTSTAMP:20260422T140605Z
UID:5-402138@greenfieldotterbeinumc.org
DTSTART:20260517T143000Z
DTEND:20260517T153000Z
CLASS:PUBLIC
CREATED:20260422T084816
DESCRIPTION:Sunday Worship
LAST-MODIFIED:20260422T084816
LOCATION:
SUMMARY:Sunday Worship
URL;VALUE=URI:https://www.greenfieldotterbeinumc.org/events/sunday-worship/
 2026-05-17
END:VEVENT
END:VCALENDAR
