BEGIN:VCALENDAR
VERSION:2.0
PRODID:icalendar-ruby
CALSCALE:GREGORIAN
METHOD:PUBLISH
BEGIN:VEVENT
DTSTAMP:20260422T171821Z
UID:5-402401@greenfieldotterbeinumc.org
DTSTART:20260531T143000Z
DTEND:20260531T153000Z
CLASS:PUBLIC
CREATED:20260422T114331
DESCRIPTION:Sunday Worship
LAST-MODIFIED:20260422T114331
LOCATION:
SUMMARY:Sunday Worship
URL;VALUE=URI:https://www.greenfieldotterbeinumc.org/events/sunday-worship/
 2026-05-31
END:VEVENT
END:VCALENDAR
