BEGIN:VCALENDAR
VERSION:2.0
PRODID:icalendar-ruby
CALSCALE:GREGORIAN
METHOD:PUBLISH
BEGIN:VEVENT
DTSTAMP:20260422T224323Z
UID:5-402924@greenfieldotterbeinumc.org
DTSTART:20260607T143000Z
DTEND:20260607T153000Z
CLASS:PUBLIC
CREATED:20260422T173334
DESCRIPTION:Sunday Worship
LAST-MODIFIED:20260422T173334
LOCATION:
SUMMARY:Sunday Worship
URL;VALUE=URI:https://www.greenfieldotterbeinumc.org/events/sunday-worship/
 2026-06-07
END:VEVENT
END:VCALENDAR
