BEGIN:VCALENDAR
VERSION:2.0
PRODID:icalendar-ruby
CALSCALE:GREGORIAN
METHOD:PUBLISH
BEGIN:VEVENT
DTSTAMP:20260423T084239Z
UID:5-403454@greenfieldotterbeinumc.org
DTSTART:20260802T143000Z
DTEND:20260802T153000Z
CLASS:PUBLIC
CREATED:20260422T231926
DESCRIPTION:Sunday Worship
LAST-MODIFIED:20260422T231926
LOCATION:
SUMMARY:Sunday Worship
URL;VALUE=URI:https://www.greenfieldotterbeinumc.org/events/sunday-worship/
 2026-08-02
END:VEVENT
END:VCALENDAR
