BEGIN:VCALENDAR
VERSION:2.0
PRODID:icalendar-ruby
CALSCALE:GREGORIAN
METHOD:PUBLISH
BEGIN:VEVENT
DTSTAMP:20260423T110448Z
UID:5-403456@greenfieldotterbeinumc.org
DTSTART:20260816T143000Z
DTEND:20260816T153000Z
CLASS:PUBLIC
CREATED:20260422T231926
DESCRIPTION:Sunday Worship
LAST-MODIFIED:20260422T231926
LOCATION:
SUMMARY:Sunday Worship
URL;VALUE=URI:https://www.greenfieldotterbeinumc.org/events/sunday-worship/
 2026-08-16
END:VEVENT
END:VCALENDAR
