BEGIN:VCALENDAR
VERSION:2.0
PRODID:icalendar-ruby
CALSCALE:GREGORIAN
METHOD:PUBLISH
BEGIN:VEVENT
DTSTAMP:20260423T140440Z
UID:5-403719@greenfieldotterbeinumc.org
DTSTART:20260830T143000Z
DTEND:20260830T153000Z
CLASS:PUBLIC
CREATED:20260423T084944
DESCRIPTION:Sunday Worship
LAST-MODIFIED:20260423T084944
LOCATION:
SUMMARY:Sunday Worship
URL;VALUE=URI:https://www.greenfieldotterbeinumc.org/events/sunday-worship/
 2026-08-30
END:VEVENT
END:VCALENDAR
